BEGIN:VCALENDAR
VERSION:2.0
PRODID:-//Child Side Playgroup &amp; School - ECPv6.15.20//NONSGML v1.0//EN
CALSCALE:GREGORIAN
METHOD:PUBLISH
X-WR-CALNAME:Child Side Playgroup &amp; School
X-ORIGINAL-URL:https://childsideschool.wa.edu.au
X-WR-CALDESC:Events for Child Side Playgroup &amp; School
REFRESH-INTERVAL;VALUE=DURATION:PT1H
X-Robots-Tag:noindex
X-PUBLISHED-TTL:PT1H
BEGIN:VTIMEZONE
TZID:Australia/Perth
BEGIN:STANDARD
TZOFFSETFROM:+0800
TZOFFSETTO:+0800
TZNAME:AWST
DTSTART:20240101T000000
END:STANDARD
END:VTIMEZONE
BEGIN:VEVENT
DTSTART;TZID=Australia/Perth:20250912T093000
DTEND;TZID=Australia/Perth:20250912T113000
DTSTAMP:20260424T034751
CREATED:20241018T070512Z
LAST-MODIFIED:20250124T234343Z
UID:2763-1757669400-1757676600@childsideschool.wa.edu.au
SUMMARY:Playgroup
DESCRIPTION:
URL:https://childsideschool.wa.edu.au/calendar/playgroup-18/
END:VEVENT
BEGIN:VEVENT
DTSTART;TZID=Australia/Perth:20250905T093000
DTEND;TZID=Australia/Perth:20250905T113000
DTSTAMP:20260424T034751
CREATED:20241125T053032Z
LAST-MODIFIED:20250124T234331Z
UID:2802-1757064600-1757071800@childsideschool.wa.edu.au
SUMMARY:Playgroup
DESCRIPTION:
URL:https://childsideschool.wa.edu.au/calendar/playgroup-22/
END:VEVENT
BEGIN:VEVENT
DTSTART;TZID=Australia/Perth:20250822T085000
DTEND;TZID=Australia/Perth:20250822T151000
DTSTAMP:20260424T034751
CREATED:20250124T234330Z
LAST-MODIFIED:20250124T234330Z
UID:2976-1755852600-1755875400@childsideschool.wa.edu.au
SUMMARY:School Development Day
DESCRIPTION:
URL:https://childsideschool.wa.edu.au/calendar/school-development-day-6/
END:VEVENT
BEGIN:VEVENT
DTSTART;TZID=Australia/Perth:20250821T085000
DTEND;TZID=Australia/Perth:20250821T151000
DTSTAMP:20260424T034751
CREATED:20250124T234330Z
LAST-MODIFIED:20250124T234330Z
UID:2975-1755766200-1755789000@childsideschool.wa.edu.au
SUMMARY:School Development Day
DESCRIPTION:
URL:https://childsideschool.wa.edu.au/calendar/school-development-day-5/
END:VEVENT
BEGIN:VEVENT
DTSTART;TZID=Australia/Perth:20250808T093000
DTEND;TZID=Australia/Perth:20250808T113000
DTSTAMP:20260424T034751
CREATED:20241125T053103Z
LAST-MODIFIED:20250124T234329Z
UID:2806-1754645400-1754652600@childsideschool.wa.edu.au
SUMMARY:Playgroup
DESCRIPTION:
URL:https://childsideschool.wa.edu.au/calendar/playgroup-26/
END:VEVENT
BEGIN:VEVENT
DTSTART;TZID=Australia/Perth:20250801T093000
DTEND;TZID=Australia/Perth:20250801T113000
DTSTAMP:20260424T034751
CREATED:20250124T234329Z
LAST-MODIFIED:20250124T234329Z
UID:2974-1754040600-1754047800@childsideschool.wa.edu.au
SUMMARY:Playgroup
DESCRIPTION:
URL:https://childsideschool.wa.edu.au/calendar/playgroup-49/
END:VEVENT
BEGIN:VEVENT
DTSTART;TZID=Australia/Perth:20250725T093000
DTEND;TZID=Australia/Perth:20250725T113000
DTSTAMP:20260424T034751
CREATED:20250124T234315Z
LAST-MODIFIED:20250124T234315Z
UID:2973-1753435800-1753443000@childsideschool.wa.edu.au
SUMMARY:Playgroup
DESCRIPTION:
URL:https://childsideschool.wa.edu.au/calendar/playgroup-48/
END:VEVENT
BEGIN:VEVENT
DTSTART;TZID=Australia/Perth:20250721T085000
DTEND;TZID=Australia/Perth:20250721T151000
DTSTAMP:20260424T034751
CREATED:20250124T234315Z
LAST-MODIFIED:20250124T234315Z
UID:2972-1753087800-1753110600@childsideschool.wa.edu.au
SUMMARY:Term 3 - Children Commence
DESCRIPTION:
URL:https://childsideschool.wa.edu.au/calendar/term-3-children-commence-2/
END:VEVENT
BEGIN:VEVENT
DTSTART;TZID=Australia/Perth:20250704T093000
DTEND;TZID=Australia/Perth:20250704T113000
DTSTAMP:20260424T034751
CREATED:20250124T234314Z
LAST-MODIFIED:20250124T234314Z
UID:2970-1751621400-1751628600@childsideschool.wa.edu.au
SUMMARY:Playgroup
DESCRIPTION:
URL:https://childsideschool.wa.edu.au/calendar/playgroup-47/
END:VEVENT
BEGIN:VEVENT
DTSTART;TZID=Australia/Perth:20250704T085000
DTEND;TZID=Australia/Perth:20250704T151000
DTSTAMP:20260424T034751
CREATED:20250124T234314Z
LAST-MODIFIED:20250124T234314Z
UID:2971-1751619000-1751641800@childsideschool.wa.edu.au
SUMMARY:Term 2 - Last Day of Term
DESCRIPTION:
URL:https://childsideschool.wa.edu.au/calendar/term-2-last-day-of-term-2/
END:VEVENT
BEGIN:VEVENT
DTSTART;TZID=Australia/Perth:20250627T093000
DTEND;TZID=Australia/Perth:20250627T113000
DTSTAMP:20260424T034751
CREATED:20250124T234313Z
LAST-MODIFIED:20250124T234313Z
UID:2969-1751016600-1751023800@childsideschool.wa.edu.au
SUMMARY:Playgroup
DESCRIPTION:
URL:https://childsideschool.wa.edu.au/calendar/playgroup-46/
END:VEVENT
BEGIN:VEVENT
DTSTART;TZID=Australia/Perth:20250620T093000
DTEND;TZID=Australia/Perth:20250620T113000
DTSTAMP:20260424T034751
CREATED:20250124T234301Z
LAST-MODIFIED:20250124T234301Z
UID:2968-1750411800-1750419000@childsideschool.wa.edu.au
SUMMARY:Playgroup
DESCRIPTION:
URL:https://childsideschool.wa.edu.au/calendar/playgroup-45/
END:VEVENT
BEGIN:VEVENT
DTSTART;TZID=Australia/Perth:20250613T093000
DTEND;TZID=Australia/Perth:20250613T113000
DTSTAMP:20260424T034751
CREATED:20250124T234300Z
LAST-MODIFIED:20250124T234300Z
UID:2967-1749807000-1749814200@childsideschool.wa.edu.au
SUMMARY:Playgroup
DESCRIPTION:
URL:https://childsideschool.wa.edu.au/calendar/playgroup-44/
END:VEVENT
BEGIN:VEVENT
DTSTART;TZID=Australia/Perth:20250606T093000
DTEND;TZID=Australia/Perth:20250606T113000
DTSTAMP:20260424T034751
CREATED:20241125T053034Z
LAST-MODIFIED:20250124T234300Z
UID:2803-1749202200-1749209400@childsideschool.wa.edu.au
SUMMARY:Playgroup
DESCRIPTION:
URL:https://childsideschool.wa.edu.au/calendar/playgroup-23/
END:VEVENT
BEGIN:VEVENT
DTSTART;TZID=Australia/Perth:20250602T085000
DTEND;TZID=Australia/Perth:20250602T151000
DTSTAMP:20260424T034751
CREATED:20250124T234259Z
LAST-MODIFIED:20250124T234259Z
UID:2966-1748854200-1748877000@childsideschool.wa.edu.au
SUMMARY:Public Holiday
DESCRIPTION:
URL:https://childsideschool.wa.edu.au/calendar/public-holiday-2/
END:VEVENT
BEGIN:VEVENT
DTSTART;TZID=Australia/Perth:20250530T093000
DTEND;TZID=Australia/Perth:20250530T113000
DTSTAMP:20260424T034751
CREATED:20250124T234246Z
LAST-MODIFIED:20250124T234246Z
UID:2964-1748597400-1748604600@childsideschool.wa.edu.au
SUMMARY:Playgroup
DESCRIPTION:
URL:https://childsideschool.wa.edu.au/calendar/playgroup-43/
END:VEVENT
BEGIN:VEVENT
DTSTART;TZID=Australia/Perth:20250530T093000
DTEND;TZID=Australia/Perth:20250530T113000
DTSTAMP:20260424T034751
CREATED:20250124T234245Z
LAST-MODIFIED:20250124T235253Z
UID:2962-1748597400-1748604600@childsideschool.wa.edu.au
SUMMARY:Playgroup - CLOSED
DESCRIPTION:
URL:https://childsideschool.wa.edu.au/calendar/playgroup-closed-3/
END:VEVENT
BEGIN:VEVENT
DTSTART;TZID=Australia/Perth:20250530T085000
DTEND;TZID=Australia/Perth:20250530T151000
DTSTAMP:20260424T034751
CREATED:20250124T234259Z
LAST-MODIFIED:20250124T234259Z
UID:2965-1748595000-1748617800@childsideschool.wa.edu.au
SUMMARY:School Development Day
DESCRIPTION:
URL:https://childsideschool.wa.edu.au/calendar/school-development-day-4/
END:VEVENT
BEGIN:VEVENT
DTSTART;TZID=Australia/Perth:20250529T085000
DTEND;TZID=Australia/Perth:20250529T151000
DTSTAMP:20260424T034751
CREATED:20250124T234246Z
LAST-MODIFIED:20250124T234246Z
UID:2963-1748508600-1748531400@childsideschool.wa.edu.au
SUMMARY:School Development Day
DESCRIPTION:
URL:https://childsideschool.wa.edu.au/calendar/school-development-day-3/
END:VEVENT
BEGIN:VEVENT
DTSTART;TZID=Australia/Perth:20250523T093000
DTEND;TZID=Australia/Perth:20250523T113000
DTSTAMP:20260424T034751
CREATED:20250124T234244Z
LAST-MODIFIED:20250124T234244Z
UID:2961-1747992600-1747999800@childsideschool.wa.edu.au
SUMMARY:Playgroup
DESCRIPTION:
URL:https://childsideschool.wa.edu.au/calendar/playgroup-42/
END:VEVENT
BEGIN:VEVENT
DTSTART;TZID=Australia/Perth:20250522T093000
DTEND;TZID=Australia/Perth:20250522T113000
DTSTAMP:20260424T034751
CREATED:20250124T234244Z
LAST-MODIFIED:20250124T234244Z
UID:2960-1747906200-1747913400@childsideschool.wa.edu.au
SUMMARY:Playgroup
DESCRIPTION:
URL:https://childsideschool.wa.edu.au/calendar/playgroup-41/
END:VEVENT
BEGIN:VEVENT
DTSTART;TZID=Australia/Perth:20250516T093000
DTEND;TZID=Australia/Perth:20250516T113000
DTSTAMP:20260424T034751
CREATED:20250124T234231Z
LAST-MODIFIED:20250124T234231Z
UID:2959-1747387800-1747395000@childsideschool.wa.edu.au
SUMMARY:Playgroup
DESCRIPTION:
URL:https://childsideschool.wa.edu.au/calendar/playgroup-40/
END:VEVENT
BEGIN:VEVENT
DTSTART;TZID=Australia/Perth:20250515T093000
DTEND;TZID=Australia/Perth:20250515T113000
DTSTAMP:20260424T034751
CREATED:20250124T234230Z
LAST-MODIFIED:20250124T234230Z
UID:2958-1747301400-1747308600@childsideschool.wa.edu.au
SUMMARY:Playgroup
DESCRIPTION:
URL:https://childsideschool.wa.edu.au/calendar/playgroup-39/
END:VEVENT
BEGIN:VEVENT
DTSTART;TZID=Australia/Perth:20250509T093000
DTEND;TZID=Australia/Perth:20250509T113000
DTSTAMP:20260424T034751
CREATED:20241125T053117Z
LAST-MODIFIED:20250124T234230Z
UID:2808-1746783000-1746790200@childsideschool.wa.edu.au
SUMMARY:Playgroup
DESCRIPTION:
URL:https://childsideschool.wa.edu.au/calendar/playgroup-27/
END:VEVENT
BEGIN:VEVENT
DTSTART;TZID=Australia/Perth:20250502T093000
DTEND;TZID=Australia/Perth:20250502T113000
DTSTAMP:20260424T034751
CREATED:20250124T234229Z
LAST-MODIFIED:20250124T234229Z
UID:2957-1746178200-1746185400@childsideschool.wa.edu.au
SUMMARY:Playgroup
DESCRIPTION:
URL:https://childsideschool.wa.edu.au/calendar/playgroup-38/
END:VEVENT
BEGIN:VEVENT
DTSTART;TZID=Australia/Perth:20250428T085000
DTEND;TZID=Australia/Perth:20250428T151000
DTSTAMP:20260424T034751
CREATED:20250124T234229Z
LAST-MODIFIED:20250124T234229Z
UID:2956-1745830200-1745853000@childsideschool.wa.edu.au
SUMMARY:Term 2 - Children Commence
DESCRIPTION:
URL:https://childsideschool.wa.edu.au/calendar/term-2-children-commence-2/
END:VEVENT
BEGIN:VEVENT
DTSTART;TZID=Australia/Perth:20250411T093000
DTEND;TZID=Australia/Perth:20250411T113000
DTSTAMP:20260424T034751
CREATED:20241018T070457Z
LAST-MODIFIED:20250124T234215Z
UID:2760-1744363800-1744371000@childsideschool.wa.edu.au
SUMMARY:Playgroup
DESCRIPTION:
URL:https://childsideschool.wa.edu.au/calendar/playgroup-15/
END:VEVENT
BEGIN:VEVENT
DTSTART;TZID=Australia/Perth:20250411T085000
DTEND;TZID=Australia/Perth:20250411T151000
DTSTAMP:20260424T034751
CREATED:20250124T234215Z
LAST-MODIFIED:20250124T234215Z
UID:2955-1744361400-1744384200@childsideschool.wa.edu.au
SUMMARY:Term 1 - Last day of Term
DESCRIPTION:
URL:https://childsideschool.wa.edu.au/calendar/term-1-last-day-of-term-2/
END:VEVENT
BEGIN:VEVENT
DTSTART;TZID=Australia/Perth:20250404T093000
DTEND;TZID=Australia/Perth:20250404T113000
DTSTAMP:20260424T034751
CREATED:20241125T053017Z
LAST-MODIFIED:20250124T234214Z
UID:2799-1743759000-1743766200@childsideschool.wa.edu.au
SUMMARY:Playgroup
DESCRIPTION:
URL:https://childsideschool.wa.edu.au/calendar/playgroup-19/
END:VEVENT
BEGIN:VEVENT
DTSTART;TZID=Australia/Perth:20250328T093000
DTEND;TZID=Australia/Perth:20250328T113000
DTSTAMP:20260424T034751
CREATED:20250124T234214Z
LAST-MODIFIED:20250124T235457Z
UID:2953-1743154200-1743161400@childsideschool.wa.edu.au
SUMMARY:Playgroup
DESCRIPTION:
URL:https://childsideschool.wa.edu.au/calendar/playgroup-closed-2/
END:VEVENT
END:VCALENDAR